View In:
ArcGIS JavaScript
ArcGIS Online Map Viewer
ArcGIS Earth
ArcMap
ArcGIS Pro
View Footprint In:
ArcGIS Online Map Viewer
Service Description: Best Available Floodplains for Hays County. Inlcudes GBRA and other study models. This is different than Prelim DFIRM and Current Effective DFIRM
Map Name: HaysCo_Hydrology_FP_BestAvl_NonDFIRM
Legend
All Layers and Tables
Dynamic Legend
Dynamic All Layers
Layers:
Description: Best Available Floodplains for Hays County. Inlcudes GBRA and other study models. This is different than Prelim DFIRM and Current Effective DFIRM
Service Item Id: d1257f22f77b46fea5a52b31a69fb4d4
Copyright Text:
Spatial Reference:
102100
(3857)
LatestVCSWkid(0)
Single Fused Map Cache: true
Tile Info:
- Height: 256
- Width: 256
- DPI: 96
-
Levels of Detail: 24
-
Level ID: 1
[ Start Tile, End Tile ]
- Resolution: 78271.5169639999
- Scale: 2.95828763795777E8
-
Level ID: 2
[ Start Tile, End Tile ]
- Resolution: 39135.7584820001
- Scale: 1.47914381897889E8
-
Level ID: 3
[ Start Tile, End Tile ]
- Resolution: 19567.8792409999
- Scale: 7.3957190948944E7
-
Level ID: 4
[ Start Tile, End Tile ]
- Resolution: 9783.93962049996
- Scale: 3.6978595474472E7
-
Level ID: 5
[ Start Tile, End Tile ]
- Resolution: 4891.96981024998
- Scale: 1.8489297737236E7
- Format: PNG
- Compression Quality: 0.0
- Origin: X: -2.0037508342787E7
Y: 2.0037508342787E7
- Spatial Reference: 102100
(3857)
LatestVCSWkid(0)
Storage Info:
- Storage Format: esriMapCacheStorageModeCompactV2
- Packet Size: 128
Initial Extent:
XMin: -1.0984345061348604E7
YMin: 3479718.047576733
XMax: -1.0826640909124162E7
YMax: 3543318.880950533
Spatial Reference: 102100
(3857)
LatestVCSWkid(0)
Full Extent:
XMin: -1.0942595476512967E7
YMin: 3471768.95932043
XMax: -1.0876632853255425E7
YMax: 3546866.842065352
Spatial Reference: 102100
(3857)
LatestVCSWkid(0)
Units: esriMeters
Supported Image Format Types: PNG32,PNG24,PNG,JPG,DIB,TIFF,EMF,PS,PDF,GIF,SVG,SVGZ,BMP
Document Info:
Title: AGS_108_HaysCounty.aprx
Author:
Comments: Best Available Floodplains for Hays County. Inlcudes GBRA and other study models. This is different than Prelim DFIRM and Current Effective DFIRM
Subject: Best Available Floodplains for Hays County
Category:
Keywords: Halff,Hays,Floodplains
AntialiasingMode: Fast
TextAntialiasingMode: Force
Supports Dynamic Layers: true
MaxRecordCount: 2000
MaxImageHeight: 4096
MaxImageWidth: 4096
Supported Query Formats: JSON, geoJSON, PBF
Supports Query Data Elements: true
Min Scale: 1155581.108577
Max Scale: 1128.497176
Min LOD: 9
Max LOD: 19
Supports Datum Transformation: true
Child Resources:
Info
Dynamic Layer
Supported Operations:
Export Map
Identify
QueryLegends
QueryDomains
Find
Return Updates